BEGIN:VCALENDAR
VERSION:2.0
PRODID:icalendar-ruby
CALSCALE:GREGORIAN
METHOD:PUBLISH
BEGIN:VEVENT
DTSTAMP:20260422T102711Z
UID:34-285570@hallerlakeumc.org
DTSTART:20260718T010000Z
DTEND:20260718T040000Z
CLASS:PUBLIC
CREATED:20260408T074115
DESCRIPTION:Gather with friends from church to share dinner and some fun pl
 aying board games\, card games\, and maybe even a game that's new to you.
  
LAST-MODIFIED:20260408T074115
LOCATION:Fellowship Hall
SUMMARY:Game Night/Potluck
URL;VALUE=URI:https://www.hallerlakeumc.org/events/game-night-potluck/2026-
 07-17
ATTACH;FILENAME=game-night.jpg;FMTTYPE=image/jpeg:https://dq5pwpg1q8ru0.clo
 udfront.net/2026/03/09/15/37/20/12ef8f75-2c17-4a98-867e-552e27af7f8f/game-
 night.jpg
END:VEVENT
END:VCALENDAR
