BEGIN:VCALENDAR
VERSION:2.0
PRODID:icalendar-ruby
CALSCALE:GREGORIAN
METHOD:PUBLISH
BEGIN:VEVENT
DTSTAMP:20260425T232100Z
UID:13-302345@hallerlakeumc.org
DTSTART:20261101T190000Z
DTEND:20261101T200000Z
CLASS:PUBLIC
CREATED:20260425T161543
DESCRIPTION:After Sunday morning worship walk across the hall for fellowshi
 p\, snacks\, and coffee. 
LAST-MODIFIED:20260425T161543
LOCATION:
SUMMARY:Coffee Chat
URL;VALUE=URI:https://www.hallerlakeumc.org/events/coffee-chat/2026-11-01
ATTACH;FILENAME=easter-reception.jpg;FMTTYPE=image/jpeg:https://dq5pwpg1q8r
 u0.cloudfront.net/2025/08/18/07/41/11/78e076e2-be66-4848-ac3c-25e48d7e6d64
 /easter-reception.jpg
END:VEVENT
END:VCALENDAR
