BEGIN:VCALENDAR
VERSION:2.0
PRODID:icalendar-ruby
CALSCALE:GREGORIAN
METHOD:PUBLISH
BEGIN:VEVENT
DTSTAMP:20260425T162644Z
UID:13-301861@hallerlakeumc.org
DTSTART:20261004T180000Z
DTEND:20261004T190000Z
CLASS:PUBLIC
CREATED:20260425T081122
DESCRIPTION:After Sunday morning worship walk across the hall for fellowshi
 p\, snacks\, and coffee. 
LAST-MODIFIED:20260425T081122
LOCATION:
SUMMARY:Coffee Chat
URL;VALUE=URI:https://www.hallerlakeumc.org/events/coffee-chat/2026-10-04
ATTACH;FILENAME=easter-reception.jpg;FMTTYPE=image/jpeg:https://dq5pwpg1q8r
 u0.cloudfront.net/2025/08/18/07/41/11/78e076e2-be66-4848-ac3c-25e48d7e6d64
 /easter-reception.jpg
END:VEVENT
END:VCALENDAR
